BEGIN:VCALENDAR
VERSION:2.0
PRODID:-//Transplant Kids e.V.//NONSGML kigkonsult.se iCalcreator 2.30.10//
CALSCALE:GREGORIAN
METHOD:PUBLISH
UID:bde14839-1b23-4ba8-b9ee-7c8f48c30ac7
X-WR-CALNAME:iCagenda
X-WR-CALDESC:Event Management Extension for Joomla!
X-WR-RELCALID:3E26604A-50F4-4449-8B3E-E4F4932D05B5
X-WR-TIMEZONE:Europe/Berlin
BEGIN:VTIMEZONE
TZID:Europe/Berlin
BEGIN:STANDARD
TZNAME:CET
DTSTART:20251026T030000
TZOFFSETFROM:+0200
TZOFFSETTO:+0100
RDATE:20261025T030000
RDATE:20271031T030000
END:STANDARD
BEGIN:DAYLIGHT
TZNAME:CEST
DTSTART:20260329T020000
TZOFFSETFROM:+0100
TZOFFSETTO:+0200
RDATE:20270328T020000
END:DAYLIGHT
END:VTIMEZONE
BEGIN:VEVENT
UID:1cf670b5-289b-4e68-8503-7c3994d8ab3d
DTSTAMP:20260420T143558Z
CATEGORIES:Infostand
CLASS:PUBLIC
DESCRIPTION:
DTSTART:20260605T220000Z
DTEND:20260605T220000Z
GEO:00;0
LOCATION:Medizinische Hochschule Hannover
ORGANIZER:
SEQUENCE:1
SUMMARY:Sommerfest der Spieloase der MHH
TRANSP:OPAQUE
URL:https://www.transplant-kids.de/service/aktuelle-termine/64-sommerfest-d
 er-spieloase-der-mhh
END:VEVENT
END:VCALENDAR
