BEGIN:VCALENDAR
VERSION:2.0
PRODID:-//Transplant Kids e.V.//NONSGML kigkonsult.se iCalcreator 2.30.10//
CALSCALE:GREGORIAN
METHOD:PUBLISH
UID:c9a6a56e-c321-42ea-bb28-1dbe2fa1bbb1
X-WR-CALNAME:iCagenda
X-WR-CALDESC:Event Management Extension for Joomla!
X-WR-RELCALID:3E26604A-50F4-4449-8B3E-E4F4932D05B5
X-WR-TIMEZONE:Europe/Berlin
BEGIN:VTIMEZONE
TZID:Europe/Berlin
BEGIN:STANDARD
TZNAME:CET
DTSTART:20251026T030000
TZOFFSETFROM:+0200
TZOFFSETTO:+0100
RDATE:20261025T030000
RDATE:20271031T030000
END:STANDARD
BEGIN:DAYLIGHT
TZNAME:CEST
DTSTART:20260329T020000
TZOFFSETFROM:+0100
TZOFFSETTO:+0200
RDATE:20270328T020000
END:DAYLIGHT
END:VTIMEZONE
BEGIN:VEVENT
UID:05eae483-4e17-4130-8cc3-535085d6422b
DTSTAMP:20260421T135957Z
CATEGORIES:Familiencamp Nord
CLASS:PUBLIC
DESCRIPTION:
DTSTART:20260512T220000Z
DTEND:20260516T220000Z
GEO:00;0
LOCATION:Sportschule Werdau An der Sportschule 1 08412 Werdau
ORGANIZER:
SEQUENCE:1
SUMMARY:Familiencamp
TRANSP:OPAQUE
URL:https://www.transplant-kids.de/service/aktuelle-termine/61-familiencamp
END:VEVENT
END:VCALENDAR
