BEGIN:VCALENDAR
VERSION:2.0
PRODID:-//Transplant Kids e.V.//NONSGML kigkonsult.se iCalcreator 2.30.10//
CALSCALE:GREGORIAN
METHOD:PUBLISH
UID:14dc2a20-e81a-4542-b4bb-7c9d5b8c6802
X-WR-CALNAME:iCagenda
X-WR-CALDESC:Event Management Extension for Joomla!
X-WR-RELCALID:3E26604A-50F4-4449-8B3E-E4F4932D05B5
X-WR-TIMEZONE:Europe/Berlin
BEGIN:VTIMEZONE
TZID:Europe/Berlin
BEGIN:STANDARD
TZNAME:CET
DTSTART:20251026T030000
TZOFFSETFROM:+0200
TZOFFSETTO:+0100
RDATE:20261025T030000
RDATE:20271031T030000
END:STANDARD
BEGIN:DAYLIGHT
TZNAME:CEST
DTSTART:20260329T020000
TZOFFSETFROM:+0100
TZOFFSETTO:+0200
RDATE:20270328T020000
END:DAYLIGHT
END:VTIMEZONE
BEGIN:VEVENT
UID:4cab7020-11af-43f1-8c9d-3f0f1595d8d8
DTSTAMP:20260420T112201Z
CATEGORIES:TX Kids Camp
CLASS:PUBLIC
DESCRIPTION:
DTSTART:20260731T220000Z
DTEND:20260806T220000Z
GEO:00;0
LOCATION:
ORGANIZER:
SEQUENCE:1
SUMMARY:Segelcamp ab Enkhuizen (NL)
TRANSP:OPAQUE
URL:https://www.transplant-kids.de/service/aktuelle-termine/60-segelcamp-ab
 -enkhuizen-nl-2
END:VEVENT
END:VCALENDAR
