BEGIN:VCALENDAR
VERSION:2.0
PRODID:-//Transplant Kids e.V.//NONSGML kigkonsult.se iCalcreator 2.30.10//
CALSCALE:GREGORIAN
METHOD:PUBLISH
UID:0457f4e3-2921-4f25-831b-198a6c57ba59
X-WR-CALNAME:iCagenda
X-WR-CALDESC:Event Management Extension for Joomla!
X-WR-RELCALID:3E26604A-50F4-4449-8B3E-E4F4932D05B5
X-WR-TIMEZONE:Europe/Berlin
BEGIN:VTIMEZONE
TZID:Europe/Berlin
BEGIN:STANDARD
TZNAME:CET
DTSTART:20251026T030000
TZOFFSETFROM:+0200
TZOFFSETTO:+0100
RDATE:20261025T030000
RDATE:20271031T030000
END:STANDARD
BEGIN:DAYLIGHT
TZNAME:CEST
DTSTART:20260329T020000
TZOFFSETFROM:+0100
TZOFFSETTO:+0200
RDATE:20270328T020000
END:DAYLIGHT
END:VTIMEZONE
BEGIN:VEVENT
UID:ef07d72f-e8b3-4d49-9c27-2705b00e1e39
DTSTAMP:20260421T154814Z
CATEGORIES:Infostand
CLASS:PUBLIC
DESCRIPTION:
DTSTART:20260613T162500Z
DTEND:20260613T162500Z
GEO:00;0
LOCATION:Wiesmoor
ORGANIZER:
SEQUENCE:1
SUMMARY:Ottermeerlauf in Wiesmoor
TRANSP:OPAQUE
URL:https://www.transplant-kids.de/service/aktuelle-termine/22-ottermeerlau
 f-in-wiesmoor
END:VEVENT
END:VCALENDAR
