BEGIN:VCALENDAR
VERSION:2.0
PRODID:-//Transplant Kids e.V.//NONSGML kigkonsult.se iCalcreator 2.30.10//
CALSCALE:GREGORIAN
METHOD:PUBLISH
UID:d8233044-508a-4d35-96a3-3bf39c055eec
X-WR-CALNAME:iCagenda
X-WR-CALDESC:Event Management Extension for Joomla!
X-WR-RELCALID:3E26604A-50F4-4449-8B3E-E4F4932D05B5
X-WR-TIMEZONE:Europe/Berlin
BEGIN:VTIMEZONE
TZID:Europe/Berlin
BEGIN:STANDARD
TZNAME:CET
DTSTART:20241027T030000
TZOFFSETFROM:+0200
TZOFFSETTO:+0100
RDATE:20251026T030000
RDATE:20261025T030000
END:STANDARD
BEGIN:DAYLIGHT
TZNAME:CEST
DTSTART:20250330T020000
TZOFFSETFROM:+0100
TZOFFSETTO:+0200
RDATE:20260329T020000
END:DAYLIGHT
END:VTIMEZONE
BEGIN:VEVENT
UID:ae834bea-87fb-4507-9196-62fe85cc09e9
DTSTAMP:20260421T090346Z
CATEGORIES:Infostand
CLASS:PUBLIC
DESCRIPTION:
DTSTART:20250706T213400Z
DTEND:20250706T213400Z
GEO:00;0
LOCATION:Wiesmoor Fliederstraße
ORGANIZER:
SEQUENCE:1
SUMMARY:Straßenflohmarkt Hinrichsfehn
TRANSP:OPAQUE
URL:https://www.transplant-kids.de/component/icagenda/73-strassenflohmarkt-
 hinrichsfehn?Itemid=101
END:VEVENT
END:VCALENDAR
