BEGIN:VCALENDAR
VERSION:2.0
PRODID:-//Transplant Kids e.V.//NONSGML kigkonsult.se iCalcreator 2.30.10//
CALSCALE:GREGORIAN
METHOD:PUBLISH
UID:807f897b-68dd-4e42-ad99-d5e0eef71069
X-WR-CALNAME:iCagenda
X-WR-CALDESC:Event Management Extension for Joomla!
X-WR-RELCALID:3E26604A-50F4-4449-8B3E-E4F4932D05B5
X-WR-TIMEZONE:Europe/Berlin
BEGIN:VTIMEZONE
TZID:Europe/Berlin
BEGIN:STANDARD
TZNAME:CET
DTSTART:20241027T030000
TZOFFSETFROM:+0200
TZOFFSETTO:+0100
RDATE:20251026T030000
RDATE:20261025T030000
END:STANDARD
BEGIN:DAYLIGHT
TZNAME:CEST
DTSTART:20250330T020000
TZOFFSETFROM:+0100
TZOFFSETTO:+0200
RDATE:20260329T020000
END:DAYLIGHT
END:VTIMEZONE
BEGIN:VEVENT
UID:ccc4b936-b42b-4f58-b463-0372b3513b5a
DTSTAMP:20260420T181256Z
CATEGORIES:Infostand
CLASS:PUBLIC
DESCRIPTION:
DTSTART:20250830T175000Z
DTEND:20250831T175000Z
GEO:00;0
LOCATION:Strücklingen
ORGANIZER:
SEQUENCE:1
SUMMARY:Gewerbeschau Strücklingen
TRANSP:OPAQUE
URL:https://www.transplant-kids.de/component/icagenda/71-gewerbeschau-strue
 cklingen?Itemid=101
END:VEVENT
END:VCALENDAR
