BEGIN:VCALENDAR
VERSION:2.0
PRODID:-//Transplant Kids e.V.//NONSGML kigkonsult.se iCalcreator 2.30.10//
CALSCALE:GREGORIAN
METHOD:PUBLISH
UID:4163c82c-bf7a-44ab-b3ff-39bdb8cb2a08
X-WR-CALNAME:iCagenda
X-WR-CALDESC:Event Management Extension for Joomla!
X-WR-RELCALID:3E26604A-50F4-4449-8B3E-E4F4932D05B5
X-WR-TIMEZONE:Europe/Berlin
BEGIN:VTIMEZONE
TZID:Europe/Berlin
BEGIN:STANDARD
TZNAME:CET
DTSTART:20241027T030000
TZOFFSETFROM:+0200
TZOFFSETTO:+0100
RDATE:20251026T030000
RDATE:20261025T030000
END:STANDARD
BEGIN:DAYLIGHT
TZNAME:CEST
DTSTART:20250330T020000
TZOFFSETFROM:+0100
TZOFFSETTO:+0200
RDATE:20260329T020000
END:DAYLIGHT
END:VTIMEZONE
BEGIN:VEVENT
UID:ca53ea0e-5e54-4f74-bf2a-21ab8621dde8
DTSTAMP:20260420T220211Z
CATEGORIES:Infostand
CLASS:PUBLIC
DESCRIPTION:
DTSTART:20250628T173000Z
DTEND:20250628T173000Z
GEO:00;0
LOCATION:Wiesmoor
ORGANIZER:
SEQUENCE:1
SUMMARY:Sommerfest Wiesmoor
TRANSP:OPAQUE
URL:https://www.transplant-kids.de/component/icagenda/70-sommerfest-wiesmoo
 r?Itemid=101
END:VEVENT
END:VCALENDAR
