BEGIN:VCALENDAR
VERSION:2.0
PRODID:-//Transplant Kids e.V.//NONSGML kigkonsult.se iCalcreator 2.30.10//
CALSCALE:GREGORIAN
METHOD:PUBLISH
UID:ddbf399e-f028-466b-bd18-8ea5e3ef882c
X-WR-CALNAME:iCagenda
X-WR-CALDESC:Event Management Extension for Joomla!
X-WR-RELCALID:3E26604A-50F4-4449-8B3E-E4F4932D05B5
X-WR-TIMEZONE:Europe/Berlin
BEGIN:VTIMEZONE
TZID:Europe/Berlin
BEGIN:STANDARD
TZNAME:CET
DTSTART:20241027T030000
TZOFFSETFROM:+0200
TZOFFSETTO:+0100
RDATE:20251026T030000
END:STANDARD
BEGIN:DAYLIGHT
TZNAME:CEST
DTSTART:20240331T020000
TZOFFSETFROM:+0100
TZOFFSETTO:+0200
RDATE:20250330T020000
RDATE:20260329T020000
END:DAYLIGHT
END:VTIMEZONE
BEGIN:VEVENT
UID:54185e56-c602-4603-9f34-7a5c3ceb212a
DTSTAMP:20260421T034220Z
CATEGORIES:Infostand
CLASS:PUBLIC
DESCRIPTION:
DTSTART:20250329T182200Z
DTEND:20250330T182200Z
GEO:00;0
LOCATION:Blumenhalle Wiesmoor
ORGANIZER:
SEQUENCE:1
SUMMARY:Nur für dich
TRANSP:OPAQUE
URL:https://www.transplant-kids.de/component/icagenda/69-nur-fuer-dich?Item
 id=101
END:VEVENT
END:VCALENDAR
