BEGIN:VCALENDAR
VERSION:2.0
PRODID:-//Transplant Kids e.V.//NONSGML kigkonsult.se iCalcreator 2.30.10//
CALSCALE:GREGORIAN
METHOD:PUBLISH
UID:6be8480d-915c-4017-8481-0aacd0b6a1e5
X-WR-CALNAME:iCagenda
X-WR-CALDESC:Event Management Extension for Joomla!
X-WR-RELCALID:3E26604A-50F4-4449-8B3E-E4F4932D05B5
X-WR-TIMEZONE:Europe/Berlin
BEGIN:VTIMEZONE
TZID:Europe/Berlin
BEGIN:STANDARD
TZNAME:CET
DTSTART:20241027T030000
TZOFFSETFROM:+0200
TZOFFSETTO:+0100
RDATE:20251026T030000
END:STANDARD
BEGIN:DAYLIGHT
TZNAME:CEST
DTSTART:20250330T020000
TZOFFSETFROM:+0100
TZOFFSETTO:+0200
RDATE:20260329T020000
END:DAYLIGHT
END:VTIMEZONE
BEGIN:VEVENT
UID:2f007563-560e-4f8e-a2bd-c41eb7821bd3
DTSTAMP:20260421T014650Z
CATEGORIES:Infostand
CLASS:PUBLIC
DESCRIPTION;ALTREP="CID:<FFFF__=0ABBE548DFE235B58f9e8a93d@coffeebean.com>":
 „Die Lebenden reparieren“Ein Film von Katell Quillévéré nacheinem Roman vo
 n Maylis de Kerangal09.04.2025  20:15 Uhrim KubAA\nDie Meinungsbildung zu 
 Organspende ist ein sehr persönlicher Prozess. Dabei gibt es kein richtig 
 oderfalsch. Wichtig ist\, sich eine Meinung zu bilden und über diese mit d
 er Familie und Freunden zu reden.Simon ist 17 Jahre alt\, als er nach dem 
 Surfen mit Freunden bei einem Autounfall schwer verletzt wird.Er kommt mit
  einem schweren Schädel-Hirn-Trauma ins Krankenhaus. Er hat starke Hirnblu
 tungenerlitten\, die nicht mehr operabel sind. Simon ist hirntot und wird 
 nur noch von Maschinen am Lebengehalten. Seine Eltern werden um die Zustim
 mung zur Organspende gebeten. Claire ist Mutter zweiererwachsener Söhne\, 
 die seit drei Jahren weiß\, dass sie eine degenerative Herzerkrankung hat\
 , bei dersich das Herz vergrößert. Jetzt braucht sie ein neues Herz.Kein R
 ührstück und kein Krankenhausdrama: Katell Quillévérés herausragender Film
  'Die Lebendenreparieren' zeigt\, wie eine Herztransplantation die Leben g
 anz unterschiedlicher Menschen aufwühlt.Spiegel 2017Eingeladende Gäste für
  die Diskussion am Ende des Films:- Grit Ose-Weth\, Regionale Ansprechpart
 nerin in Baden-Württemberg für Transplant-Kids e. V.und Mutter eines niere
 ntransplantierten Sohnes- Christoph Thome\, Oberarzt Anästhesie\, Intensiv
 - und NotfallmedizinTransplantationsbeauftragter des Ostalb-Klinikums Aale
 n„Die Lebenden reparieren“Ein Film von Katell Quillévéré nacheinem Roman v
 on Maylis de Kerangal09.04.2025  20:15 Uhrim KubAAKooperation des Klinisch
 en Ethikkomitees desOstalb-Klinikum Aalen mit dem Kino am KocherAalenklini
 ken-ostalb.de
DTSTART:20250409T181500Z
DTEND:20250409T215900Z
GEO:00;0
LOCATION:Kino am Kocher Aalen
ORGANIZER:
SEQUENCE:1
SUMMARY:Die Lebenden reparieren
TRANSP:OPAQUE
URL:https://www.transplant-kids.de/component/icagenda/68-die-lebenden-repar
 ieren?Itemid=101
END:VEVENT
END:VCALENDAR
