BEGIN:VCALENDAR
VERSION:2.0
PRODID:-//Transplant Kids e.V.//NONSGML kigkonsult.se iCalcreator 2.30.10//
CALSCALE:GREGORIAN
METHOD:PUBLISH
UID:6a76ecc5-997f-4db8-a052-7118b589f3a5
X-WR-CALNAME:iCagenda
X-WR-CALDESC:Event Management Extension for Joomla!
X-WR-RELCALID:3E26604A-50F4-4449-8B3E-E4F4932D05B5
X-WR-TIMEZONE:Europe/Berlin
BEGIN:VTIMEZONE
TZID:Europe/Berlin
BEGIN:STANDARD
TZNAME:CET
DTSTART:20241027T030000
TZOFFSETFROM:+0200
TZOFFSETTO:+0100
RDATE:20251026T030000
RDATE:20261025T030000
END:STANDARD
BEGIN:DAYLIGHT
TZNAME:CEST
DTSTART:20250330T020000
TZOFFSETFROM:+0100
TZOFFSETTO:+0200
RDATE:20260329T020000
END:DAYLIGHT
END:VTIMEZONE
BEGIN:VEVENT
UID:7e426642-9ab6-49a5-af5a-c854568349be
DTSTAMP:20260420T235819Z
CATEGORIES:Verein
CLASS:PUBLIC
DESCRIPTION:
DTSTART:20250530T220000Z
DTEND:20250530T220000Z
GEO:00;0
LOCATION:Freizeit- u. Bildungsstädte Dauphtetal-Holzhausen
ORGANIZER:
SEQUENCE:1
SUMMARY:Transplant-Kids e.V. Mitgliederversammlung
TRANSP:OPAQUE
URL:https://www.transplant-kids.de/component/icagenda/62-transplant-kids-e-
 v-mitgliederversammlung?Itemid=101
END:VEVENT
END:VCALENDAR
