BEGIN:VCALENDAR
VERSION:2.0
PRODID:-//Transplant Kids e.V.//NONSGML kigkonsult.se iCalcreator 2.30.10//
CALSCALE:GREGORIAN
METHOD:PUBLISH
UID:cafae183-3c1a-4f21-a004-df243db9fb5b
X-WR-CALNAME:iCagenda
X-WR-CALDESC:Event Management Extension for Joomla!
X-WR-RELCALID:3E26604A-50F4-4449-8B3E-E4F4932D05B5
X-WR-TIMEZONE:Europe/Berlin
BEGIN:VTIMEZONE
TZID:Europe/Berlin
BEGIN:STANDARD
TZNAME:CET
DTSTART:20241027T030000
TZOFFSETFROM:+0200
TZOFFSETTO:+0100
RDATE:20251026T030000
END:STANDARD
BEGIN:DAYLIGHT
TZNAME:CEST
DTSTART:20240331T020000
TZOFFSETFROM:+0100
TZOFFSETTO:+0200
RDATE:20250330T020000
RDATE:20260329T020000
END:DAYLIGHT
END:VTIMEZONE
BEGIN:VEVENT
UID:91e63463-f6e0-46cd-b78c-6b48f95e31fd
DTSTAMP:20260421T084942Z
CATEGORIES:Infostand
CLASS:PUBLIC
DESCRIPTION:
DTSTART:20241213T230000Z
DTEND:20241214T220000Z
GEO:00;0
LOCATION:zwischen Kaufhaus Behrends/Takko/Rossmann
ORGANIZER:
SEQUENCE:1
SUMMARY:Infostand beim Kaufhaus Behrends in Wiesmoor
TRANSP:OPAQUE
URL:https://www.transplant-kids.de/component/icagenda/56-infostand-beim-kau
 fhaus-behrends-in-wiesmoor?Itemid=101
END:VEVENT
END:VCALENDAR
