BEGIN:VCALENDAR
VERSION:2.0
PRODID:-//Transplant Kids e.V.//NONSGML kigkonsult.se iCalcreator 2.30.10//
CALSCALE:GREGORIAN
METHOD:PUBLISH
UID:c28e7e86-45f5-4fe0-ba76-1104d27204c7
X-WR-CALNAME:iCagenda
X-WR-CALDESC:Event Management Extension for Joomla!
X-WR-RELCALID:3E26604A-50F4-4449-8B3E-E4F4932D05B5
X-WR-TIMEZONE:Europe/Berlin
BEGIN:VTIMEZONE
TZID:Europe/Berlin
BEGIN:STANDARD
TZNAME:CET
DTSTART:20231029T030000
TZOFFSETFROM:+0200
TZOFFSETTO:+0100
RDATE:20241027T030000
RDATE:20251026T030000
END:STANDARD
BEGIN:DAYLIGHT
TZNAME:CEST
DTSTART:20240331T020000
TZOFFSETFROM:+0100
TZOFFSETTO:+0200
RDATE:20250330T020000
RDATE:20260329T020000
END:DAYLIGHT
END:VTIMEZONE
BEGIN:VEVENT
UID:08e5cf06-bf0d-4870-ad46-080e59102a71
DTSTAMP:20260421T114040Z
CATEGORIES:Infostand
CLASS:PUBLIC
DESCRIPTION:
DTSTART:20241006T080000Z
DTEND:20241006T160000Z
GEO:00;0
LOCATION:Wiesmoor
ORGANIZER:
SEQUENCE:1
SUMMARY:Kürbisfest Wiesmoor
TRANSP:OPAQUE
URL:https://www.transplant-kids.de/component/icagenda/53-kuerbisfest-wiesmo
 or?Itemid=101
END:VEVENT
END:VCALENDAR
