BEGIN:VCALENDAR
VERSION:2.0
PRODID:-//Transplant Kids e.V.//NONSGML kigkonsult.se iCalcreator 2.30.10//
CALSCALE:GREGORIAN
METHOD:PUBLISH
UID:8c4e7006-771e-4f27-b2df-b611c72c0046
X-WR-CALNAME:iCagenda
X-WR-CALDESC:Event Management Extension for Joomla!
X-WR-RELCALID:3E26604A-50F4-4449-8B3E-E4F4932D05B5
X-WR-TIMEZONE:Europe/Berlin
BEGIN:VTIMEZONE
TZID:Europe/Berlin
BEGIN:STANDARD
TZNAME:CET
DTSTART:20241027T030000
TZOFFSETFROM:+0200
TZOFFSETTO:+0100
RDATE:20251026T030000
RDATE:20261025T030000
END:STANDARD
BEGIN:DAYLIGHT
TZNAME:CEST
DTSTART:20250330T020000
TZOFFSETFROM:+0100
TZOFFSETTO:+0200
RDATE:20260329T020000
END:DAYLIGHT
END:VTIMEZONE
BEGIN:VEVENT
UID:9c6dbfbd-7992-414e-8356-1026019d7a68
DTSTAMP:20260420T181944Z
CATEGORIES:Infostand
CLASS:PUBLIC
DESCRIPTION:
DTSTART:20250817T090000Z
DTEND:20250817T215900Z
GEO:00;0
LOCATION:Freilichtbühne\, Wiesmoor
ORGANIZER:
SEQUENCE:1
SUMMARY:Infostand beim Wiesmoor Kids Festival
TRANSP:OPAQUE
URL:https://www.transplant-kids.de/component/icagenda/52-infostand-beim-dik
 ka-open-air-2024?Itemid=101
END:VEVENT
END:VCALENDAR
