BEGIN:VCALENDAR
VERSION:2.0
PRODID:-//Transplant Kids e.V.//NONSGML kigkonsult.se iCalcreator 2.30.10//
CALSCALE:GREGORIAN
METHOD:PUBLISH
UID:80f8e872-c248-4930-b0b8-372e8f0d7a84
X-WR-CALNAME:iCagenda
X-WR-CALDESC:Event Management Extension for Joomla!
X-WR-RELCALID:3E26604A-50F4-4449-8B3E-E4F4932D05B5
X-WR-TIMEZONE:Europe/Berlin
BEGIN:VTIMEZONE
TZID:Europe/Berlin
BEGIN:STANDARD
TZNAME:CET
DTSTART:20231029T030000
TZOFFSETFROM:+0200
TZOFFSETTO:+0100
RDATE:20241027T030000
RDATE:20251026T030000
END:STANDARD
BEGIN:DAYLIGHT
TZNAME:CEST
DTSTART:20240331T020000
TZOFFSETFROM:+0100
TZOFFSETTO:+0200
RDATE:20250330T020000
END:DAYLIGHT
END:VTIMEZONE
BEGIN:VEVENT
UID:99d45a95-d13f-4530-a036-2a8301cb659b
DTSTAMP:20260421T152923Z
CATEGORIES:Infostand
CLASS:PUBLIC
DESCRIPTION:
DTSTART:20240818T143200Z
DTEND:20240818T143200Z
GEO:00;0
LOCATION:64385 Reichelsheim/Odw
ORGANIZER:
SEQUENCE:1
SUMMARY:Infostand in 64385 Reichelsheim/Odw
TRANSP:OPAQUE
URL:https://www.transplant-kids.de/component/icagenda/45-infostand-in-64385
 -reichelsheim-odw?Itemid=101
END:VEVENT
END:VCALENDAR
