BEGIN:VCALENDAR
VERSION:2.0
PRODID:-//Transplant Kids e.V.//NONSGML kigkonsult.se iCalcreator 2.30.10//
CALSCALE:GREGORIAN
METHOD:PUBLISH
UID:1ebe4763-6abe-425b-857e-e31fbfc6c655
X-WR-CALNAME:iCagenda
X-WR-CALDESC:Event Management Extension for Joomla!
X-WR-RELCALID:3E26604A-50F4-4449-8B3E-E4F4932D05B5
X-WR-TIMEZONE:Europe/Berlin
BEGIN:VTIMEZONE
TZID:Europe/Berlin
BEGIN:STANDARD
TZNAME:CET
DTSTART:20231029T030000
TZOFFSETFROM:+0200
TZOFFSETTO:+0100
RDATE:20241027T030000
RDATE:20251026T030000
END:STANDARD
BEGIN:DAYLIGHT
TZNAME:CEST
DTSTART:20240331T020000
TZOFFSETFROM:+0100
TZOFFSETTO:+0200
RDATE:20250330T020000
END:DAYLIGHT
END:VTIMEZONE
BEGIN:VEVENT
UID:c7f7e151-4af8-4330-a470-8b50d2791473
DTSTAMP:20260421T131426Z
CATEGORIES:Infostand
CLASS:PUBLIC
DESCRIPTION:
DTSTART:20240901T115400Z
DTEND:20240901T115400Z
GEO:00;0
LOCATION:Sedelsberg
ORGANIZER:
SEQUENCE:1
SUMMARY:Infostand Dorffest Sedelsberg
TRANSP:OPAQUE
URL:https://www.transplant-kids.de/component/icagenda/43-infostand-dorffest
 -sedelsberg?Itemid=101
END:VEVENT
END:VCALENDAR
