BEGIN:VCALENDAR
VERSION:2.0
PRODID:-//Transplant Kids e.V.//NONSGML kigkonsult.se iCalcreator 2.30.10//
CALSCALE:GREGORIAN
METHOD:PUBLISH
UID:0d476a3c-36a7-4395-aec7-bad7b0773fd5
X-WR-CALNAME:iCagenda
X-WR-CALDESC:Event Management Extension for Joomla!
X-WR-RELCALID:3E26604A-50F4-4449-8B3E-E4F4932D05B5
X-WR-TIMEZONE:Europe/Berlin
BEGIN:VTIMEZONE
TZID:Europe/Berlin
BEGIN:STANDARD
TZNAME:CET
DTSTART:20241027T030000
TZOFFSETFROM:+0200
TZOFFSETTO:+0100
RDATE:20251026T030000
RDATE:20261025T030000
END:STANDARD
BEGIN:DAYLIGHT
TZNAME:CEST
DTSTART:20250330T020000
TZOFFSETFROM:+0100
TZOFFSETTO:+0200
RDATE:20260329T020000
END:DAYLIGHT
END:VTIMEZONE
BEGIN:VEVENT
UID:252bb550-28d5-4a54-b288-29baae2e0530
DTSTAMP:20260420T181944Z
CATEGORIES:Infostand
CLASS:PUBLIC
DESCRIPTION:
DTSTART:20250824T114900Z
DTEND:20250824T114900Z
GEO:00;0
LOCATION:Barßel
ORGANIZER:
SEQUENCE:1
SUMMARY:Infostand Hafenfest Barßel
TRANSP:OPAQUE
URL:https://www.transplant-kids.de/component/icagenda/41-hafenfest-barssel?
 Itemid=101
END:VEVENT
END:VCALENDAR
