BEGIN:VCALENDAR
VERSION:2.0
PRODID:-//Transplant Kids e.V.//NONSGML kigkonsult.se iCalcreator 2.30.10//
CALSCALE:GREGORIAN
METHOD:PUBLISH
UID:2619cb16-a501-40a5-918a-9d2483d6879b
X-WR-CALNAME:iCagenda
X-WR-CALDESC:Event Management Extension for Joomla!
X-WR-RELCALID:3E26604A-50F4-4449-8B3E-E4F4932D05B5
X-WR-TIMEZONE:Europe/Berlin
BEGIN:VTIMEZONE
TZID:Europe/Berlin
BEGIN:STANDARD
TZNAME:CET
DTSTART:20231029T030000
TZOFFSETFROM:+0200
TZOFFSETTO:+0100
RDATE:20241027T030000
END:STANDARD
BEGIN:DAYLIGHT
TZNAME:CEST
DTSTART:20240331T020000
TZOFFSETFROM:+0100
TZOFFSETTO:+0200
RDATE:20250330T020000
END:DAYLIGHT
END:VTIMEZONE
BEGIN:VEVENT
UID:1b620635-f9ef-4bbb-a4ef-96b0e06d69d1
DTSTAMP:20260422T015845Z
CATEGORIES:Sportveranstaltung
CLASS:PUBLIC
DESCRIPTION;ALTREP="CID:<FFFF__=0ABBE548DFE235B58f9e8a93d@coffeebean.com>":
 DGCH Organspendelauf in Präsenz in Leipzig (23.04.24) und virtuell weltwei
 t (23.04-28.04.24).
DTSTART:20240423T130700Z
DTEND:20240423T130700Z
GEO:00;0
LOCATION:Leipzig oder weltweit
ORGANIZER:
SEQUENCE:1
SUMMARY:DGCH Organspendelauf in Präsenz in Leipzig und virtuell welteit .
TRANSP:OPAQUE
URL:https://www.transplant-kids.de/component/icagenda/35-dgch-organspendela
 uf-in-praesenz-in-leipzig-und-virtuell-welteit?Itemid=101
END:VEVENT
END:VCALENDAR
