BEGIN:VCALENDAR
VERSION:2.0
PRODID:-//Transplant Kids e.V.//NONSGML kigkonsult.se iCalcreator 2.30.10//
CALSCALE:GREGORIAN
METHOD:PUBLISH
UID:9d2bf2ec-8532-444a-a3c2-935a545ff461
X-WR-CALNAME:iCagenda
X-WR-CALDESC:Event Management Extension for Joomla!
X-WR-RELCALID:3E26604A-50F4-4449-8B3E-E4F4932D05B5
X-WR-TIMEZONE:Europe/Berlin
BEGIN:VTIMEZONE
TZID:Europe/Berlin
BEGIN:STANDARD
TZNAME:CET
DTSTART:20231029T030000
TZOFFSETFROM:+0200
TZOFFSETTO:+0100
RDATE:20241027T030000
RDATE:20251026T030000
END:STANDARD
BEGIN:DAYLIGHT
TZNAME:CEST
DTSTART:20240331T020000
TZOFFSETFROM:+0100
TZOFFSETTO:+0200
RDATE:20250330T020000
END:DAYLIGHT
END:VTIMEZONE
BEGIN:VEVENT
UID:47b28b3e-9f0f-4725-ac10-44a7dbf3b698
DTSTAMP:20260421T220551Z
CATEGORIES:TdO
CLASS:PUBLIC
DESCRIPTION:
DTSTART:20240601T072800Z
DTEND:20240601T072800Z
GEO:00;0
LOCATION:
ORGANIZER:
SEQUENCE:1
SUMMARY:Tag der Organspende in Freiburg
TRANSP:OPAQUE
URL:https://www.transplant-kids.de/component/icagenda/29-tag-der-organspend
 e-in-freiburg?Itemid=101
END:VEVENT
END:VCALENDAR
