BEGIN:VCALENDAR
VERSION:2.0
PRODID:-//Transplant Kids e.V.//NONSGML kigkonsult.se iCalcreator 2.30.10//
CALSCALE:GREGORIAN
METHOD:PUBLISH
UID:8cb18012-00ba-4de7-90ed-72f695084e37
X-WR-CALNAME:iCagenda
X-WR-CALDESC:Event Management Extension for Joomla!
X-WR-RELCALID:3E26604A-50F4-4449-8B3E-E4F4932D05B5
X-WR-TIMEZONE:Europe/Berlin
BEGIN:VTIMEZONE
TZID:Europe/Berlin
BEGIN:STANDARD
TZNAME:CET
DTSTART:20231029T030000
TZOFFSETFROM:+0200
TZOFFSETTO:+0100
RDATE:20241027T030000
RDATE:20251026T030000
END:STANDARD
BEGIN:DAYLIGHT
TZNAME:CEST
DTSTART:20240331T020000
TZOFFSETFROM:+0100
TZOFFSETTO:+0200
RDATE:20250330T020000
END:DAYLIGHT
END:VTIMEZONE
BEGIN:VEVENT
UID:c5c75b82-ef7b-414d-9133-9c9e077b221b
DTSTAMP:20260422T001938Z
CATEGORIES:Verein
CLASS:PUBLIC
DESCRIPTION:
DTSTART:20240531T072300Z
DTEND:20240531T072500Z
GEO:+51.073662;+7.684732
LOCATION:
ORGANIZER:
SEQUENCE:1
SUMMARY:Mitgliederversammlung
TRANSP:OPAQUE
URL:https://www.transplant-kids.de/component/icagenda/28-mitgliederversamml
 ung-in-gummersbach-nrw?Itemid=101
END:VEVENT
END:VCALENDAR
