BEGIN:VCALENDAR
VERSION:2.0
PRODID:-//Transplant Kids e.V.//NONSGML kigkonsult.se iCalcreator 2.30.10//
CALSCALE:GREGORIAN
METHOD:PUBLISH
UID:d443033e-1efe-485d-bc80-725e6381eb1e
X-WR-CALNAME:iCagenda
X-WR-CALDESC:Event Management Extension for Joomla!
X-WR-RELCALID:3E26604A-50F4-4449-8B3E-E4F4932D05B5
X-WR-TIMEZONE:Europe/Berlin
BEGIN:VTIMEZONE
TZID:Europe/Berlin
BEGIN:STANDARD
TZNAME:CET
DTSTART:20241027T030000
TZOFFSETFROM:+0200
TZOFFSETTO:+0100
RDATE:20251026T030000
RDATE:20261025T030000
END:STANDARD
BEGIN:DAYLIGHT
TZNAME:CEST
DTSTART:20250330T020000
TZOFFSETFROM:+0100
TZOFFSETTO:+0200
RDATE:20260329T020000
END:DAYLIGHT
END:VTIMEZONE
BEGIN:VEVENT
UID:8627ea89-e12a-43c4-8466-ab4afa695243
DTSTAMP:20260421T000429Z
CATEGORIES:Infostand
CLASS:PUBLIC
DESCRIPTION:
DTSTART:20250509T220000Z
DTEND:20250509T220000Z
GEO:00;0
LOCATION:Lüneburg
ORGANIZER:
SEQUENCE:1
SUMMARY:Budni-Patentag in Lüneburg
TRANSP:OPAQUE
URL:https://www.transplant-kids.de/component/icagenda/26-budni-patentag-in-
 lueneburg?Itemid=101
END:VEVENT
END:VCALENDAR
