BEGIN:VCALENDAR
VERSION:2.0
PRODID:-//Transplant Kids e.V.//NONSGML kigkonsult.se iCalcreator 2.30.10//
CALSCALE:GREGORIAN
METHOD:PUBLISH
UID:d6a63027-42a3-462b-8a43-2a6347b050ed
X-WR-CALNAME:iCagenda
X-WR-CALDESC:Event Management Extension for Joomla!
X-WR-RELCALID:3E26604A-50F4-4449-8B3E-E4F4932D05B5
X-WR-TIMEZONE:Europe/Berlin
BEGIN:VTIMEZONE
TZID:Europe/Berlin
BEGIN:STANDARD
TZNAME:CET
DTSTART:20231029T030000
TZOFFSETFROM:+0200
TZOFFSETTO:+0100
RDATE:20241027T030000
RDATE:20251026T030000
END:STANDARD
BEGIN:DAYLIGHT
TZNAME:CEST
DTSTART:20240331T020000
TZOFFSETFROM:+0100
TZOFFSETTO:+0200
RDATE:20250330T020000
END:DAYLIGHT
END:VTIMEZONE
BEGIN:VEVENT
UID:18ea2c02-ba0d-4c97-869a-06a544653498
DTSTAMP:20260421T204002Z
CATEGORIES:TX Kids Camp
CLASS:PUBLIC
DESCRIPTION:
DTSTART:20240719T220000Z
DTEND:20240725T220000Z
GEO:00;0
LOCATION:
ORGANIZER:
SEQUENCE:1
SUMMARY:Segelcamp ab Enkhuizen (NL)
TRANSP:OPAQUE
URL:https://www.transplant-kids.de/component/icagenda/24-segelcamp-ab-enkhu
 izen-nl?Itemid=101
END:VEVENT
END:VCALENDAR
