BEGIN:VCALENDAR
VERSION:2.0
PRODID:-//Transplant Kids e.V.//NONSGML kigkonsult.se iCalcreator 2.30.10//
CALSCALE:GREGORIAN
METHOD:PUBLISH
UID:446d1fe7-e6e5-455e-8d6e-fd2d6a3e5c51
X-WR-CALNAME:iCagenda
X-WR-CALDESC:Event Management Extension for Joomla!
X-WR-RELCALID:3E26604A-50F4-4449-8B3E-E4F4932D05B5
X-WR-TIMEZONE:Europe/Berlin
BEGIN:VTIMEZONE
TZID:Europe/Berlin
BEGIN:STANDARD
TZNAME:CET
DTSTART:20241027T030000
TZOFFSETFROM:+0200
TZOFFSETTO:+0100
RDATE:20251026T030000
END:STANDARD
BEGIN:DAYLIGHT
TZNAME:CEST
DTSTART:20240331T020000
TZOFFSETFROM:+0100
TZOFFSETTO:+0200
RDATE:20250330T020000
RDATE:20260329T020000
END:DAYLIGHT
END:VTIMEZONE
BEGIN:VEVENT
UID:4d5827c4-5208-4172-9cbf-b542f069f163
DTSTAMP:20260421T033819Z
CATEGORIES:Infostand
CLASS:PUBLIC
DESCRIPTION:
DTSTART:20250328T230000Z
DTEND:20250329T230000Z
GEO:00;0
LOCATION:Westerstede
ORGANIZER:
SEQUENCE:1
SUMMARY:Infostand beim Frühlingsfest der Firma Rauert Reisemobile in Wester
 stede
TRANSP:OPAQUE
URL:https://www.transplant-kids.de/component/icagenda/18-infostand-beim-fru
 ehlingsfest-der-firma-rauert-reisemobile-in-westerstede?Itemid=101
END:VEVENT
END:VCALENDAR
