BEGIN:VCALENDAR
VERSION:2.0
PRODID:-//Transplant Kids e.V.//NONSGML kigkonsult.se iCalcreator 2.30.10//
CALSCALE:GREGORIAN
METHOD:PUBLISH
UID:551326b3-ae1d-454e-b871-81c38e562051
X-WR-CALNAME:iCagenda
X-WR-CALDESC:Event Management Extension for Joomla!
X-WR-RELCALID:3E26604A-50F4-4449-8B3E-E4F4932D05B5
X-WR-TIMEZONE:Europe/Berlin
BEGIN:VTIMEZONE
TZID:Europe/Berlin
BEGIN:STANDARD
TZNAME:CET
DTSTART:20251026T030000
TZOFFSETFROM:+0200
TZOFFSETTO:+0100
RDATE:20261025T030000
END:STANDARD
BEGIN:DAYLIGHT
TZNAME:CEST
DTSTART:20260329T020000
TZOFFSETFROM:+0100
TZOFFSETTO:+0200
RDATE:20270328T020000
END:DAYLIGHT
END:VTIMEZONE
BEGIN:VEVENT
UID:979d74a6-f279-49ee-9e68-0de5b980e95e
DTSTAMP:20260420T041139Z
CATEGORIES:Infostand
CLASS:PUBLIC
DESCRIPTION:
DTSTART:20260409T220000Z
DTEND:20260411T220000Z
GEO:00;0
LOCATION:Hannover
ORGANIZER:
SEQUENCE:1
SUMMARY:Infostand Hannover Marathon
TRANSP:OPAQUE
URL:https://www.transplant-kids.de/component/icagenda/17-infostand-hannover
 -marathon?Itemid=101
END:VEVENT
END:VCALENDAR
