BEGIN:VCALENDAR
VERSION:2.0
PRODID:-//Transplant Kids e.V.//NONSGML kigkonsult.se iCalcreator 2.30.10//
CALSCALE:GREGORIAN
METHOD:PUBLISH
UID:b22a97c8-7d4c-45a1-92f0-afa020e05310
X-WR-CALNAME:iCagenda
X-WR-CALDESC:Event Management Extension for Joomla!
X-WR-RELCALID:3E26604A-50F4-4449-8B3E-E4F4932D05B5
X-WR-TIMEZONE:Europe/Berlin
BEGIN:VTIMEZONE
TZID:Europe/Berlin
BEGIN:STANDARD
TZNAME:CET
DTSTART:20231029T030000
TZOFFSETFROM:+0200
TZOFFSETTO:+0100
RDATE:20241027T030000
RDATE:20251026T030000
END:STANDARD
BEGIN:DAYLIGHT
TZNAME:CEST
DTSTART:20240331T020000
TZOFFSETFROM:+0100
TZOFFSETTO:+0200
RDATE:20250330T020000
END:DAYLIGHT
END:VTIMEZONE
BEGIN:VEVENT
UID:4b5c4732-2f15-4d36-985e-27e603fa73d3
DTSTAMP:20260421T221048Z
CATEGORIES:Familiencamp Nord
CLASS:PUBLIC
DESCRIPTION;ALTREP="CID:<FFFF__=0ABBE548DFE235B58f9e8a93d@coffeebean.com>":
  \n \n 
DTSTART:20240527T220000Z
DTEND:20240531T220000Z
GEO:+51.073662;+7.684732
LOCATION:
ORGANIZER:
SEQUENCE:1
SUMMARY:Familiencamp
TRANSP:OPAQUE
URL:https://www.transplant-kids.de/component/icagenda/16-familiencamp-im-na
 turfreundehaus-kaete-strobel-in-gummersbach?Itemid=101
END:VEVENT
END:VCALENDAR
